BEGIN:VCALENDAR
VERSION:2.0
PRODID:-//ChamberMaster//Event Calendar 2.0//EN
METHOD:PUBLISH
X-PUBLISHED-TTL:P3D
REFRESH-INTERVAL:P3D
CALSCALE:GREGORIAN
BEGIN:VEVENT
DTSTART:20160401T153000Z
DTEND:20160401T170000Z
X-MICROSOFT-CDO-ALLDAYEVENT:FALSE
SUMMARY:Luncheon @ Stonewood Grill
DESCRIPTION:Our luncheon series gives us the chance to outwardly connect with our members and the community to discuss current issues\, upcoming events\, and provide specialized resources. Typically seeing crowds of 30+ attendees\, our luncheons have also become a social gathering and monthly networking event of many of our top business professionals.
X-ALT-DESC;FMTTYPE=text/html:<span style="color: rgb(4\, 78\, 116)\; font-family: 'Trebuchet MS'\, Verdana\, Helvetica\, sans-serif\; font-size: 16px\; line-height: normal\;">Our luncheon series gives us the chance to outwardly connect with&nbsp\;our members and the community to&nbsp\;discuss current issues\, upcoming events\, and provide specialized resources. Typically&nbsp\;seeing crowds of 30+ attendees\, our luncheons have also become a social gathering and monthly networking event of many of our top business&nbsp\;</span><span style="color: rgb(4\, 78\, 116)\; font-family: 'Trebuchet MS'\, Verdana\, Helvetica\, sans-serif\; font-size: 16px\; line-height: normal\;">professionals</span><span style="color: rgb(4\, 78\, 116)\; font-family: 'Trebuchet MS'\, Verdana\, Helvetica\, sans-serif\; font-size: 16px\; line-height: normal\;">.&nbsp\;</span>
LOCATION:1894 Stickney Point Rd\, Sarasota\, FL 34231
UID:e.2312.186
SEQUENCE:3
DTSTAMP:20260419T171705Z
URL:https://my.siestakeychamber.com/events/details/luncheon-stonewood-grill-04-01-2016-186
END:VEVENT

END:VCALENDAR
