BEGIN:VCALENDAR
VERSION:2.0
PRODID:-//ChamberMaster//Event Calendar 2.0//EN
METHOD:PUBLISH
X-PUBLISHED-TTL:P3D
REFRESH-INTERVAL:P3D
CALSCALE:GREGORIAN
BEGIN:VEVENT
DTSTART:20170303T163000Z
DTEND:20170303T180000Z
X-MICROSOFT-CDO-ALLDAYEVENT:FALSE
SUMMARY:March Networking Luncheon @ Blase Cafe & Martini Bar and Pi 3.14 Pizza
DESCRIPTION:All Chamber members are invited to the Siesta Key Chamber's monthly networking luncheon hosted by Blase Cafe & Martini Bar and Pi 3.14 Pizza and Craft Beer. These luncheons are a wonderful opportunity to meet and network with your new and fellow Chamber members.  There will be delicious food\, great company and chances to win prizes!  \n\n\n\nWe hope to see you there!
X-ALT-DESC;FMTTYPE=text/html:All Chamber members are invited to the Siesta Key Chamber&#39\;s monthly networking luncheon hosted by Blase&nbsp\;Cafe &amp\; Martini Bar and Pi 3.14 Pizza and Craft Beer.&nbsp\;These luncheons are a wonderful opportunity to meet and network with your new and fellow Chamber members. &nbsp\;There will be delicious food\, great company and chances to win prizes! &nbsp\;<br />\n<br />\nWe hope to see you there!
LOCATION:Blase Cafe & Martini Bar and Pi 3.14 Pizza and Craft Beer 5263 Ocean Blvd. Siesta Key\, FL 34242 www.theblasecafe.com
UID:e.2312.1086
SEQUENCE:3
DTSTAMP:20260419T161806Z
URL:https://my.siestakeychamber.com/events/details/march-networking-luncheon-blase-cafe-martini-bar-and-pi-3-14-pizza-1086
END:VEVENT

END:VCALENDAR
