BEGIN:VCALENDAR
VERSION:2.0
PRODID:-//ChamberMaster//Event Calendar 2.0//EN
METHOD:PUBLISH
X-PUBLISHED-TTL:P3D
REFRESH-INTERVAL:P3D
CALSCALE:GREGORIAN
BEGIN:VEVENT
DTSTART:20170315T200000Z
DTEND:20170315T230000Z
X-MICROSOFT-CDO-ALLDAYEVENT:FALSE
SUMMARY:Massage Experience Siesta Key - Botox & Filler Spa Party!
DESCRIPTION:Massage Experience Siesta Key will be hosting a fun spa party featuring Botox\, fillers\, mini facials\, free massages and much more!\n\n\n\nMassage Experience Siesta Key is a boutique day spa and health wellness center located right in the Siesta Key Village.  Connie Lewis and her staff of licensed massage therapists have created a professional space that is both tranquil and relaxing for visitors and locals alike.
X-ALT-DESC;FMTTYPE=text/html:Massage Experience Siesta Key will be hosting a fun spa party featuring Botox\, fillers\, mini facials\, free massages and much more!<br />\n<br />\nMassage Experience Siesta Key is a boutique day spa and health wellness center located right in the Siesta Key Village. &nbsp\;Connie Lewis and her staff of licensed massage therapists have created a professional space that is both tranquil&nbsp\;and relaxing for visitors and locals alike.
LOCATION:Massage Experience Siesta Key 5138 Ocean Blvd. Siesta Key\, FL 34242 (In the Davidson Drugs plaza)
UID:e.2312.1128
SEQUENCE:3
DTSTAMP:20260419T161717Z
URL:https://my.siestakeychamber.com/events/details/massage-experience-siesta-key-botox-filler-spa-party-1128
END:VEVENT

END:VCALENDAR
