BEGIN:VCALENDAR
VERSION:2.0
PRODID:-//ChamberMaster//Event Calendar 2.0//EN
METHOD:PUBLISH
X-PUBLISHED-TTL:P3D
REFRESH-INTERVAL:P3D
CALSCALE:GREGORIAN
BEGIN:VEVENT
DTSTART:20170505T153000Z
DTEND:20170505T170000Z
X-MICROSOFT-CDO-ALLDAYEVENT:FALSE
SUMMARY:May Networking Luncheon @ The White Horse Pub
DESCRIPTION:All Chamber members are invited to the Siesta Key Chamber's monthly networking luncheon hosted by The White Horse Pub.  These luncheons are a wonderful opportunity to meet and network with your new and fellow Chamber members.  There will be delicious food\, great company and chances to win prizes!  \n\n\n\nWe hope to see you there!
X-ALT-DESC;FMTTYPE=text/html:All Chamber members are invited to the Siesta Key Chamber&#39\;s monthly networking luncheon hosted by The White Horse Pub. &nbsp\;These luncheons are a wonderful opportunity to meet and network with your new and fellow Chamber members. &nbsp\;There will be delicious food\, great company and chances to win prizes! &nbsp\;<br />\n<br />\nWe hope to see you there!
LOCATION:The White Horse Pub 6240 North Lockwood Ridge Road Sarasota\, FL 34243 www.the-white-horse-pub.com
UID:e.2312.1088
SEQUENCE:3
DTSTAMP:20260419T133242Z
URL:https://my.siestakeychamber.com/events/details/may-networking-luncheon-the-white-horse-pub-1088
END:VEVENT

END:VCALENDAR
