BEGIN:VCALENDAR
VERSION:2.0
PRODID:-//ChamberMaster//Event Calendar 2.0//EN
METHOD:PUBLISH
X-PUBLISHED-TTL:P3D
REFRESH-INTERVAL:P3D
CALSCALE:GREGORIAN
BEGIN:VEVENT
DTSTART:20170401T210000Z
DTEND:20170402T020000Z
X-MICROSOFT-CDO-ALLDAYEVENT:FALSE
SUMMARY:Moonlight Movies - Finding Dory
DESCRIPTION:Sarasota County is proud to partner with the Sarasota Film Festival to present this month's moonlight movie on the beach\, Finding Dory!\n\n\n\nCome and enjoy this free family fun starting at sunset\, snacks and other refreshments will be available for purchase but don't forget to bring your blankets and chairs to sit on.\n\n\n\nFor more information and for a full schedule of moonlight movies\, click the link below:\n\nhttps://www.sarasotafilmfestival.com/news/117-2016-2017-moonlight-movies-schedule-set
X-ALT-DESC;FMTTYPE=text/html:Sarasota County is proud to partner with the Sarasota Film Festival to present this month&#39\;s moonlight movie on the beach\, Finding Dory!<br />\n<br />\nCome and enjoy this free family fun starting at sunset\, snacks and other refreshments will be available for purchase but don&#39\;t forget to bring your blankets and chairs to sit on.<br />\n<br />\nFor more information and for a full schedule of moonlight movies\, click the link below:<br />\n<span style="font-family:calibri\,sans-serif\;"><span style="font-size:11.0pt\;"><a href="https://www.sarasotafilmfestival.com/news/117-2016-2017-moonlight-movies-schedule-set">https://www.sarasotafilmfestival.com/news/117-2016-2017-moonlight-movies-schedule-set</a></span></span><br />\n&nbsp\;
LOCATION:Siesta Public Beach 948 Beach Road Siesta Key\, FL 34242
UID:e.2312.1131
SEQUENCE:3
DTSTAMP:20260419T145658Z
URL:https://my.siestakeychamber.com/events/details/moonlight-movies-finding-dory-1131
END:VEVENT

END:VCALENDAR
