BEGIN:VCALENDAR
VERSION:2.0
PRODID:-//ChamberMaster//Event Calendar 2.0//EN
METHOD:PUBLISH
X-PUBLISHED-TTL:P3D
REFRESH-INTERVAL:P3D
CALSCALE:GREGORIAN
BEGIN:VEVENT
DTSTART:20161109T210000Z
DTEND:20161110T000000Z
X-MICROSOFT-CDO-ALLDAYEVENT:FALSE
SUMMARY:Morton's Siesta Market - Holiday Affair
DESCRIPTION:Morton's invites you to attend their holiday party at Morton's Siesta Market.  Come sample our delicious holiday menu\, enjoy a wine and cheese tasting\, and our vendors showcasing their new products.
X-ALT-DESC;FMTTYPE=text/html:Morton&#39\;s invites you to attend their holiday party at Morton&#39\;s Siesta Market. &nbsp\;Come sample our delicious holiday menu\, enjoy a wine and cheese tasting\, and our vendors showcasing their new products.&nbsp\;
LOCATION:Morton's Siesta Market 205 Canal Road Siesta Key\, FL 34242
UID:e.2312.1072
SEQUENCE:3
DTSTAMP:20260419T224607Z
URL:https://my.siestakeychamber.com/events/details/morton-s-siesta-market-holiday-affair-1072
END:VEVENT

END:VCALENDAR
