BEGIN:VCALENDAR
VERSION:2.0
PRODID:-//ChamberMaster//Event Calendar 2.0//EN
METHOD:PUBLISH
X-PUBLISHED-TTL:P3D
REFRESH-INTERVAL:P3D
CALSCALE:GREGORIAN
BEGIN:VEVENT
DTSTART:20161015T123000Z
DTEND:20161015T160000Z
X-MICROSOFT-CDO-ALLDAYEVENT:FALSE
SUMMARY:ODA Academy - Global Cardboard Challenge
DESCRIPTION:Out-Of-Door Academy will be participating in the Global Cardboard Challenge.  This is a global day of play celebrating the ingenuity and creativity of young people.  All school-aged children are invited to come build and play arcade games out of cardboard and other recycled materials.
X-ALT-DESC;FMTTYPE=text/html:Out-Of-Door Academy will be participating in the Global Cardboard Challenge. &nbsp\;This is a global day of play celebrating the ingenuity and creativity of young people. &nbsp\;All school-aged children are invited to come build and play arcade games out of cardboard and other recycled materials.&nbsp\;
LOCATION:Out-Of-Door Academy's Historic Siesta Key Campus 444 Reid Street Siesta Key\, FL 34242
UID:e.2312.1065
SEQUENCE:3
DTSTAMP:20260419T235534Z
URL:https://my.siestakeychamber.com/events/details/oda-academy-global-cardboard-challenge-1065
END:VEVENT

END:VCALENDAR
