BEGIN:VCALENDAR
VERSION:2.0
PRODID:-//ChamberMaster//Event Calendar 2.0//EN
METHOD:PUBLISH
X-PUBLISHED-TTL:P3D
REFRESH-INTERVAL:P3D
CALSCALE:GREGORIAN
BEGIN:VEVENT
DTSTART:20160920T203000Z
DTEND:20160920T220000Z
X-MICROSOFT-CDO-ALLDAYEVENT:FALSE
SUMMARY:Out of Door Academy's Back-to-School Fashion Presentation
DESCRIPTION:ODA's annual Fund Kick Off Event at Saks Fifth Avenue.
X-ALT-DESC;FMTTYPE=text/html:ODA&#39\;s annual Fund Kick Off Event at Saks Fifth Avenue.
LOCATION:Saks Fifth Avenue 120 University Town Center Parkway Sarasota\, FL 34243
UID:e.2312.1062
SEQUENCE:3
DTSTAMP:20260420T011453Z
URL:https://my.siestakeychamber.com/events/details/out-of-door-academy-s-back-to-school-fashion-presentation-1062
END:VEVENT

END:VCALENDAR
