BEGIN:VCALENDAR
VERSION:2.0
PRODID:-//ChamberMaster//Event Calendar 2.0//EN
METHOD:PUBLISH
X-PUBLISHED-TTL:P3D
REFRESH-INTERVAL:P3D
CALSCALE:GREGORIAN
BEGIN:VEVENT
DTSTART:20161112T160000Z
DTEND:20161112T200000Z
X-MICROSOFT-CDO-ALLDAYEVENT:FALSE
SUMMARY:Out-of-Door Academy's Thunder Fun Day
DESCRIPTION:Thunder Fun Day is ODA's annual school fair to celebrate the school community.  This fun\, family event includes games\, inflatables\, crafts\, food\, chili cook off\, class booths\, and more!
X-ALT-DESC;FMTTYPE=text/html:Thunder Fun Day is ODA&#39\;s annual school fair to celebrate the school community. &nbsp\;This fun\, family event includes games\, inflatables\, crafts\, food\, chili cook off\, class booths\, and more! &nbsp\;
LOCATION:Out of Door Academy's Historic Siesta Key Campus 444 Reid Street Siesta Key\, FL 34242
UID:e.2312.1063
SEQUENCE:3
DTSTAMP:20260419T224600Z
URL:https://my.siestakeychamber.com/events/details/out-of-door-academy-s-thunder-fun-day-1063
END:VEVENT

END:VCALENDAR
