BEGIN:VCALENDAR
VERSION:2.0
PRODID:-//ChamberMaster//Event Calendar 2.0//EN
METHOD:PUBLISH
X-PUBLISHED-TTL:P3D
REFRESH-INTERVAL:P3D
CALSCALE:GREGORIAN
BEGIN:VEVENT
DTSTART:20160420T130000Z
DTEND:20160420T180000Z
X-MICROSOFT-CDO-ALLDAYEVENT:FALSE
SUMMARY:Phillippi Farmhouse Market
DESCRIPTION:Over 35 vendors offer produce and plants from local growers and producers\, as well as prepared foods\, specialty and sustainable items\, and Florida agriculturally-related products. Food and produce vendors at the Phillippi Farmhouse Market are required to be growers to support the market's mission of promoting local agriculture. The market is easily accessible from US 41 and has plenty of free parking and live entertainment.
X-ALT-DESC;FMTTYPE=text/html:<span style="font-size:12px\;"><span style="font-family:arial\,helvetica\,sans-serif\;"><span style="color:#7f7f7f\;">Over&nbsp\;35 vendors offer produce and plants from local growers and producers\, as well as prepared foods\, specialty and sustainable items\, and Florida agriculturally-related products. Food and produce vendors at the Phillippi Farmhouse Market are required to be growers to support the market&rsquo\;s mission of promoting local agriculture.&nbsp\;The market is easily accessible from US 41 and has plenty of free parking and live entertainment.</span></span></span>
LOCATION:5500 S. Tamiami Trail Just a little south of Sarasota
UID:e.2312.815
SEQUENCE:3
DTSTAMP:20260419T172010Z
URL:https://my.siestakeychamber.com/events/details/phillippi-farmhouse-market-04-20-2016-815
END:VEVENT

END:VCALENDAR
