BEGIN:VCALENDAR
VERSION:2.0
PRODID:-//ChamberMaster//Event Calendar 2.0//EN
METHOD:PUBLISH
X-PUBLISHED-TTL:P3D
REFRESH-INTERVAL:P3D
CALSCALE:GREGORIAN
BEGIN:VEVENT
DTSTART:20170416T100000Z
DTEND:20170416T113000Z
X-MICROSOFT-CDO-ALLDAYEVENT:FALSE
SUMMARY:Pine Shores Easter Sunrise Service
DESCRIPTION:This Easter Sunday\, Pine Shores Presbyterian Church will host its' annual sunrise service on the beach beginning at sunrise (6:30 a.m.) on the beautiful sand of Siesta Key Beach. \n\n\n\n*Please remember to bring blankets\, chairs\, or something to sit on*
X-ALT-DESC;FMTTYPE=text/html:This Easter Sunday\, Pine Shores Presbyterian Church will host its&#39\; annual sunrise service on the beach beginning at sunrise (6:30 a.m.) on the beautiful sand of Siesta Key Beach.&nbsp\;<br />\n<br />\n*Please remember to bring blankets\, chairs\, or something to sit on*
LOCATION:Siesta Public Beach 948 Beach Road Siesta Key\, FL 34242
UID:e.2312.1133
SEQUENCE:3
DTSTAMP:20260419T145609Z
URL:https://my.siestakeychamber.com/events/details/pine-shores-easter-sunrise-service-1133
END:VEVENT

END:VCALENDAR
