BEGIN:VCALENDAR
VERSION:2.0
PRODID:-//ChamberMaster//Event Calendar 2.0//EN
METHOD:PUBLISH
X-PUBLISHED-TTL:P3D
REFRESH-INTERVAL:P3D
CALSCALE:GREGORIAN
BEGIN:VEVENT
DTSTART:20170429T100000Z
DTEND:20170429T150000Z
X-MICROSOFT-CDO-ALLDAYEVENT:FALSE
SUMMARY:Porch Light 5K Race
DESCRIPTION:On Saturday\, April 29th Siesta Beach will host the third annual Porch Light 5K race. This participant-friendly run features a 1-mile fun run as well as a traditional 5K.  All proceeds from this event support the Porch Light Ministry's Florida safe house - a program that serves to rescue and restore child victims of victims of the sex trafficking trade.\n\n\n\nTo register or for more information\, please click the link below:\n\nhttp://www.active.com/sarasota-fl/running/distance-running-races/the-porch-light-5k-2017
X-ALT-DESC;FMTTYPE=text/html:On Saturday\, April 29th&nbsp\;Siesta Beach will host the third annual Porch Light 5K race. This participant-friendly run features a 1-mile fun run as well as a traditional 5K. &nbsp\;All proceeds from this event support the Porch Light Ministry&#39\;s Florida safe house - a program that serves to rescue and restore child victims of&nbsp\;victims of the sex trafficking trade.<br />\n<br />\nTo register or for more information\, please click the link below:<br />\n<span style="font-family:calibri\,sans-serif\;"><span style="font-size:11.0pt\;"><a href="http://www.active.com/sarasota-fl/running/distance-running-races/the-porch-light-5k-2017">http://www.active.com/sarasota-fl/running/distance-running-races/the-porch-light-5k-2017</a></span></span>
LOCATION:Siesta Public Beach 948 Beach Road Siesta Key FL 34242
UID:e.2312.1136
SEQUENCE:3
DTSTAMP:20260419T145718Z
URL:https://my.siestakeychamber.com/events/details/porch-light-5k-race-1136
END:VEVENT

END:VCALENDAR
