BEGIN:VCALENDAR
VERSION:2.0
PRODID:-//ChamberMaster//Event Calendar 2.0//EN
METHOD:PUBLISH
X-PUBLISHED-TTL:P3D
REFRESH-INTERVAL:P3D
CALSCALE:GREGORIAN
BEGIN:VEVENT
DTSTART:20160622T213000Z
DTEND:20160622T233000Z
X-MICROSOFT-CDO-ALLDAYEVENT:FALSE
SUMMARY:Ribbon Cutting - Anniversary Party for Massage Experience Siesta Key
DESCRIPTION:Massage Experience Siesta Key is Celebration of 20 years in business at the same location. Prizes and Give-Aways!
X-ALT-DESC;FMTTYPE=text/html:Massage Experience Siesta Key is Celebration of 20 years in business at the same location.&nbsp\;<span style="line-height: 20.8px\;">Prizes and&nbsp\;</span>Give-Aways<span style="line-height: 20.8px\;">!</span>
LOCATION:5138 A Ocean Blvd. Siesta Key\, FL 34242
UID:e.2312.1054
SEQUENCE:3
DTSTAMP:20260419T203744Z
URL:https://my.siestakeychamber.com/events/details/ribbon-cutting-anniversary-party-for-massage-experience-siesta-key-06-22-2016-1054
END:VEVENT

END:VCALENDAR
