BEGIN:VCALENDAR
VERSION:2.0
PRODID:-//ChamberMaster//Event Calendar 2.0//EN
METHOD:PUBLISH
X-PUBLISHED-TTL:P3D
REFRESH-INTERVAL:P3D
CALSCALE:GREGORIAN
BEGIN:VEVENT
DTSTART;VALUE=DATE:20160702
DTEND;VALUE=DATE:20160705
TRANSP:TRANSPARENT
X-MICROSOFT-CDO-ALLDAYEVENT:TRUE
SUMMARY:Sarasota Jungle Gardens 4th of July Weekend Specials
DESCRIPTION:Sarasota\, FL Why battle crowded beaches and parking during the long 4th of July holiday weekend when you can enjoy cool and tropical Sarasota Jungle Gardens with a "buy 1 admission\, get 1 free" admission special? For three days   July 2\, 3 and July 4th -- the lesser priced of two admissions is FREE. \n\nFamilies can enjoy feeding flamingos\, watching interactive animal shows and exploring 10 acres of jungle paradise in the heart of Sarasota.\n\n\n\nVisit the Sarasota Jungle Gardens web site at www.sarasotajunglegardens.com\n\nor call (941)355-5305 for more information.
X-ALT-DESC;FMTTYPE=text/html:<strong><span style="color:black\;"><span style="font-family:arial\,sans-serif\;"><span style="font-size:10.0pt\;">Sarasota\, FL&hellip\;</span></span></span></strong><span style="color:black\;"><span style="font-family:arial\,sans-serif\;"><span style="font-size:10.0pt\;">Why battle crowded beaches and parking during the long 4<sup>th</sup> of July holiday weekend when you can enjoy cool and tropical Sarasota Jungle Gardens with a &ldquo\;buy 1 admission\, get 1 free&rdquo\; admission special? For three days &ndash\; July 2\, 3 and July 4<sup>th</sup> -- the lesser priced of two admissions is<strong> FREE</strong>.&nbsp\;</span></span></span><br />\n<span style="color:black\;"><span style="font-family:arial\,sans-serif\;"><span style="font-size:10.0pt\;">Families can enjoy feeding flamingos\, watching interactive animal shows and exploring 10 acres of jungle paradise in the heart of Sarasota.</span></span></span><br />\n<br />\n<span style="color:black\;"><span style="font-family:arial\,sans-serif\;"><span style="font-size:10.0pt\;">Visit the Sarasota Jungle Gardens web site at <a href="http://www.sarasotajunglegardens.com">www.sarasotajunglegardens.com</a><br />\nor call (941)355-5305 for more information.</span></span></span><br />\n&nbsp\;
LOCATION:The gardens are located at 3701 Bay Shore Road\, Sarasota\, FL 34234.
UID:e.2312.1055
SEQUENCE:3
DTSTAMP:20260419T220650Z
URL:https://my.siestakeychamber.com/events/details/sarasota-jungle-gardens-4th-of-july-weekend-specials-07-02-2016-1055
END:VEVENT

END:VCALENDAR
