BEGIN:VCALENDAR
VERSION:2.0
PRODID:-//ChamberMaster//Event Calendar 2.0//EN
METHOD:PUBLISH
X-PUBLISHED-TTL:P3D
REFRESH-INTERVAL:P3D
CALSCALE:GREGORIAN
BEGIN:VEVENT
DTSTART;VALUE=DATE:20160530
DTEND;VALUE=DATE:20160531
TRANSP:TRANSPARENT
X-MICROSOFT-CDO-ALLDAYEVENT:TRUE
SUMMARY:Sarasota Jungle Gardens Honors U.S. Amed Forces on Memorial Day
DESCRIPTION:To show its gratitude and respect for those who serve in our nation's military   past and present -- U.S. Armed Forces personnel will be honored and celebrated at Sarasota Jungle Gardens on Memorial Day\, Monday\, May 30. The gardens are located at 3701 Bay Shore Road\, Sarasota\, FL 34234.\n\n            Veterans and all active service military (with valid ID) receive free admission with the purchase of one adult or child's regularly priced same day admission. Families can enjoy the lush\, tropical botanical gardens and winding trails on 10 acres in the heart of Sarasota while interacting with more than 200 animals and enjoying various animal shows and performances.\n\n            "We so appreciate those who serve and have sacrificed for our country\," says Nancy Lavick\, marketing director for the gardens. "We look forward to showing the military special recognition throughout the park during the day."\n\n            Admission is free for children three and under\; $12.99 for children 4-16\; $17.99 for adults and $16.99 for seniors 65 and older\; taxes are not included.
X-ALT-DESC;FMTTYPE=text/html:<span style="color:black\;"><span style="font-family:arial\,sans-serif\;"><span style="font-size:10.0pt\;">To show its gratitude and respect for those who serve in our nation&rsquo\;s military &ndash\; past and present -- U.S. Armed Forces personnel will be honored and celebrated at Sarasota Jungle Gardens on Memorial Day\, Monday\, May 30. The gardens are located at 3701 Bay Shore Road\, Sarasota\, FL 34234.</span></span></span><br />\n<span style="color:black\;"><span style="font-family:arial\,sans-serif\;"><span style="font-size:10.0pt\;">&nbsp\;&nbsp\;&nbsp\;&nbsp\;&nbsp\;&nbsp\;&nbsp\;&nbsp\;&nbsp\;&nbsp\;&nbsp\; Veterans and all active service military (with valid ID) receive <strong>free admission</strong> with the purchase of one adult or child&rsquo\;s regularly priced same day admission. Families can enjoy the lush\, tropical botanical gardens and winding trails on 10 acres in the heart of Sarasota while interacting with more than 200 animals and enjoying various animal shows and performances.</span></span></span><br />\n<span style="color:black\;"><span style="font-family:arial\,sans-serif\;"><span style="font-size:10.0pt\;">&nbsp\;&nbsp\;&nbsp\;&nbsp\;&nbsp\;&nbsp\;&nbsp\;&nbsp\;&nbsp\;&nbsp\;&nbsp\; &ldquo\;We so appreciate those who serve and have sacrificed for our country\,&rdquo\; says Nancy Lavick\, marketing director for the gardens. &ldquo\;We look forward to showing the military special recognition throughout the park during the day.&rdquo\;</span></span></span><br />\n<span style="color:black\;"><span style="font-family:calibri\,sans-serif\;">&nbsp\;&nbsp\;&nbsp\;&nbsp\;&nbsp\;&nbsp\;&nbsp\;&nbsp\;&nbsp\;&nbsp\;&nbsp\; Admission is free for children three and under\; $12.99 for children 4-16\; $17.99 for adults and $16.99 for seniors 65 and older\; taxes are not included.&nbsp\;</span></span>
LOCATION:Sarasota Jungle Gardens on Memorial Day\, Monday\, May 30. The gardens are located at 3701 Bay Shore Road\, Sarasota\, FL 34234.
UID:e.2312.1051
SEQUENCE:3
DTSTAMP:20260419T185907Z
URL:https://my.siestakeychamber.com/events/details/sarasota-jungle-gardens-honors-u-s-amed-forces-on-memorial-day-05-30-2016-1051
END:VEVENT

END:VCALENDAR
