BEGIN:VCALENDAR
VERSION:2.0
PRODID:-//ChamberMaster//Event Calendar 2.0//EN
METHOD:PUBLISH
X-PUBLISHED-TTL:P3D
REFRESH-INTERVAL:P3D
CALSCALE:GREGORIAN
BEGIN:VEVENT
DTSTART:20160214T213000Z
DTEND:20160215T000000Z
X-MICROSOFT-CDO-ALLDAYEVENT:FALSE
SUMMARY:Say "I Do"
DESCRIPTION:A romantic beachside renewal of wedding vows\, offering couples a beautiful backdrop to express their continuing love and commitment to one another. Couples renew their vows at this non-denominational sunset ceremony then enjoy wedding-themed refreshments. Couples receive a beautiful certificate to commemorate this very special ceremony. Prizes are awarded to couples in various categories. \n\nSay 'I Do' Again is attended by nearly 500 couples.
X-ALT-DESC;FMTTYPE=text/html:<p style="color: rgb(103\, 103\, 103)\; line-height: normal\; font-size: 10pt\; font-family: verdana\; background-color: rgb(246\, 246\, 246)\;"><font face="Calibri"><span style="font-size: 10pt\; font-family: verdana\;">A romantic beachside renewal of wedding vows\, offering couples a beautiful backdrop to express their continuing love and commitment to one another. Couples renew their vows at this non-denominational sunset ceremony then enjoy wedding-themed refreshments. Couples receive a beautiful certificate to commemorate this very special ceremony. Prizes are awarded to couples in various categories.&nbsp\;</span></font></p>\n\n<div style="color: rgb(103\, 103\, 103)\; line-height: normal\; font-size: 10pt\; font-family: verdana\; margin: 0in 0in 10pt\; background-color: rgb(246\, 246\, 246)\;"><font face="Calibri"><span style="font-size: 10pt\; font-family: verdana\;">Say &lsquo\;I Do&rsquo\; Again is attended by nearly 500 couples.&nbsp\;</span></font></div>\n
LOCATION:Siesta Key Public Beach
UID:e.2312.403
SEQUENCE:3
DTSTAMP:20260419T140646Z
URL:https://my.siestakeychamber.com/events/details/say-i-do-02-14-2016-403
END:VEVENT

END:VCALENDAR
