BEGIN:VCALENDAR
VERSION:2.0
PRODID:-//ChamberMaster//Event Calendar 2.0//EN
METHOD:PUBLISH
X-PUBLISHED-TTL:P3D
REFRESH-INTERVAL:P3D
CALSCALE:GREGORIAN
BEGIN:VEVENT
DTSTART:20170126T123000Z
DTEND:20170126T140000Z
X-MICROSOFT-CDO-ALLDAYEVENT:FALSE
SUMMARY:SB2 GOOD EDUCATION: Learning for a Lifetime
DESCRIPTION:Join SRQ Magazine on Thursday\, January 26\, 2017 from 7:30-9:00am for the next installment of our 2016-17 SB2 Season on the adaptations going into innovative thinking in the K-100+ education experience. Keynote Mary Chance\, President of the Consortium of Florida Education Foundations\, will discuss the organization's representation of 61 county-wide school district education foundations that collectively raise more than $63 million annually for targeted initiatives to increase student achievement. Special guest panelists include: Dr. Larry Thompson\, President\, Ringling College of Art and Design\; Jennifer Vigne\, President\, Education Foundation of Sarasota County\; and Mireya Eavey\, Executive Director\, CareerEdge. Tickets $35/per person. Register online at www.srqsb2.com.
X-ALT-DESC;FMTTYPE=text/html:Join SRQ Magazine on Thursday\, January 26\, 2017 from 7:30-9:00am for the next installment of our 2016-17 SB2 Season on the adaptations going into innovative thinking in the K-100+ education experience. Keynote Mary Chance\, President of the Consortium of Florida Education Foundations\, will discuss the organization&rsquo\;s representation of 61 county-wide school district education foundations that collectively raise more than $63 million annually for targeted initiatives to increase student achievement. Special guest panelists include: Dr. Larry Thompson\, President\, Ringling College of Art and Design\; Jennifer Vigne\, President\, Education Foundation of Sarasota County\; and Mireya Eavey\, Executive Director\, CareerEdge. Tickets $35/per person. Register online at www.srqsb2.com.
LOCATION:The Francis\, 1289 N Palm Ave\, Sarasota\, FL 34236
UID:e.2312.1077
SEQUENCE:3
DTSTAMP:20260419T192109Z
URL:https://my.siestakeychamber.com/events/details/sb2-good-education-learning-for-a-lifetime-1077
END:VEVENT

END:VCALENDAR
