BEGIN:VCALENDAR
VERSION:2.0
PRODID:-//ChamberMaster//Event Calendar 2.0//EN
METHOD:PUBLISH
X-PUBLISHED-TTL:P3D
REFRESH-INTERVAL:P3D
CALSCALE:GREGORIAN
BEGIN:VEVENT
DTSTART:20160220T130000Z
DTEND:20160220T170000Z
X-MICROSOFT-CDO-ALLDAYEVENT:FALSE
SUMMARY:Siesta Beach Grand Opening
DESCRIPTION:Join in the celebration of the new beach pavilion and grounds.
X-ALT-DESC;FMTTYPE=text/html:Join in the celebration of the new beach pavilion and grounds.&nbsp\;
LOCATION:Siesta Key Public Beach
UID:e.2312.404
SEQUENCE:3
DTSTAMP:20260419T140901Z
URL:https://my.siestakeychamber.com/events/details/siesta-beach-grand-opening-02-20-2016-404
END:VEVENT

END:VCALENDAR
