BEGIN:VCALENDAR
VERSION:2.0
PRODID:-//ChamberMaster//Event Calendar 2.0//EN
METHOD:PUBLISH
X-PUBLISHED-TTL:P3D
REFRESH-INTERVAL:P3D
CALSCALE:GREGORIAN
BEGIN:VEVENT
DTSTART:20160409T140000Z
DTEND:20160410T210000Z
X-MICROSOFT-CDO-ALLDAYEVENT:FALSE
SUMMARY:Siesta Fiesta
DESCRIPTION:The artists will line Ocean Boulevard with their professional display booths while the crafters will display their unique and affordable crafts throughout Siesta Key Village for a sidewalk craft fair.\n\nAll artists and crafters will be present for the duration of the show\, available to discuss their work and inspiration. Ocean Boulevard will be closed to vehicular traffic starting at Ocean and Canal and running through to Beach Road.\n\nThe event appeals to people of all ages including serious art buyers looking to add to their collections. With a wide variety of art mediums on display and prices ranging from $25 hand-designed earrings to $30\,000 metal sculptures\, there is something for everyone.
X-ALT-DESC;FMTTYPE=text/html:<h2 style="margin: 0px\; padding: 0px\; font-size: 14px\; font-family: Arial\, 'Arial Unicode MS'\, Helvetica\, sans-serif\; color: rgb(49\, 102\, 170)\; background-color: rgb(255\, 255\, 255)\;">The artists will line Ocean Boulevard with their professional display booths while the crafters will display their unique and affordable crafts throughout Siesta Key Village for a sidewalk craft fair.</h2>\n\n<p style="margin: 11px 0px 0px\; padding: 0px\; font-family: Arial\, 'Arial Unicode MS'\, Helvetica\, sans-serif\; font-size: 13px\; background-color: rgb(255\, 255\, 255)\;">All artists and crafters will be present for the duration of the show\, available to discuss their work and inspiration. Ocean Boulevard will be closed to vehicular traffic starting at Ocean and Canal and running through to Beach Road.</p>\n\n<p style="margin: 11px 0px 0px\; padding: 0px\; font-family: Arial\, 'Arial Unicode MS'\, Helvetica\, sans-serif\; font-size: 13px\; background-color: rgb(255\, 255\, 255)\;">The event appeals to people of all ages including serious art buyers looking to add to their collections. With a wide variety of art mediums on display and prices ranging from $25 hand-designed earrings to $30\,000 metal sculptures\, there is something for everyone.</p>\n
LOCATION:Siesta Key Village
UID:e.2312.407
SEQUENCE:3
DTSTAMP:20260419T171706Z
URL:https://my.siestakeychamber.com/events/details/siesta-fiesta-04-09-2016-407
END:VEVENT

END:VCALENDAR
