BEGIN:VCALENDAR
VERSION:2.0
PRODID:-//ChamberMaster//Event Calendar 2.0//EN
METHOD:PUBLISH
X-PUBLISHED-TTL:P3D
REFRESH-INTERVAL:P3D
CALSCALE:GREGORIAN
BEGIN:VEVENT
DTSTART:20170415T130000Z
DTEND:20170415T160000Z
X-MICROSOFT-CDO-ALLDAYEVENT:FALSE
SUMMARY:Siesta Key Children's Easter Party & Egg Hunt
DESCRIPTION:Come celebrate this Easter with the Siesta Key Children's Easter Party and Easter Egg Hunt!  This family-friendly event is open to children ages 1-6 ($10 per child).  There will be games\, prizes\, goody bags\, fire truck and ambulance tours\, mounted Sheriff's Patrol\, face painting and more!
X-ALT-DESC;FMTTYPE=text/html:Come celebrate this Easter with the Siesta Key Children&#39\;s Easter Party and Easter Egg Hunt! &nbsp\;This family-friendly event is open to children ages 1-6 ($10 per child). &nbsp\;There will be games\, prizes\, goody bags\, fire truck and ambulance tours\, mounted Sheriff&#39\;s Patrol\, face painting and more!
LOCATION:Turtle Beach 8918 Midnight Pass Rd. Siesta Key\, FL 34242
UID:e.2312.1127
SEQUENCE:3
DTSTAMP:20260419T145720Z
URL:https://my.siestakeychamber.com/events/details/siesta-key-children-s-easter-party-egg-hunt-1127
END:VEVENT

END:VCALENDAR
