BEGIN:VCALENDAR
VERSION:2.0
PRODID:-//ChamberMaster//Event Calendar 2.0//EN
METHOD:PUBLISH
X-PUBLISHED-TTL:P3D
REFRESH-INTERVAL:P3D
CALSCALE:GREGORIAN
BEGIN:VEVENT
DTSTART:20220705T000000Z
DTEND:20220705T013000Z
X-MICROSOFT-CDO-ALLDAYEVENT:FALSE
SUMMARY:Siesta Key Community Fireworks (2022)
DESCRIPTION:Bring your family and friends to the 31st Annual Siesta Key Community 4th of July Fireworks at Siesta Beach.\n\n\n\nFireworks launch at dusk.
X-ALT-DESC;FMTTYPE=text/html:<br />\nBring your family and friends to the 31st Annual Siesta Key Community 4th of July Fireworks at Siesta Beach.<br />\n<br />\nFireworks launch at dusk.
LOCATION:Siesta Public Beach
UID:e.2312.1641
SEQUENCE:3
DTSTAMP:20260424T231724Z
URL:https://my.siestakeychamber.com/events/details/siesta-key-community-fireworks-2022-1641
END:VEVENT

END:VCALENDAR
