BEGIN:VCALENDAR
VERSION:2.0
PRODID:-//ChamberMaster//Event Calendar 2.0//EN
METHOD:PUBLISH
X-PUBLISHED-TTL:P3D
REFRESH-INTERVAL:P3D
CALSCALE:GREGORIAN
BEGIN:VEVENT
DTSTART;VALUE=DATE:20161111
DTEND;VALUE=DATE:20161116
TRANSP:TRANSPARENT
X-MICROSOFT-CDO-ALLDAYEVENT:TRUE
SUMMARY:Siesta Key Crystal Classic
DESCRIPTION:The Seventh Annual Siesta Key Crystal Classic is scheduled for November 11   15\, 2016 on Siesta Beach. Recently named America's #1 Beach it has become a favorite of the professional sand sculptors who have competed in the past three years. Citing the beauty and cleanliness of the pristine white sand\,  sculptors have remarked that their sculptures look almost as if they were "carved in marble." The Siesta Key Crystal Classic connects the arts and the beach in ways never before seen in Sarasota.
X-ALT-DESC;FMTTYPE=text/html:<span style="color: rgb(120\, 120\, 120)\; font-family: Helvetica\, Arial\, sans-serif\; font-size: 13px\; line-height: 22.1px\; background-color: rgb(255\, 255\, 255)\;">The&nbsp\;Seventh Annual Siesta Key Crystal Classic is scheduled for November 11 &ndash\; 15\, 2016 on Siesta Beach. Recently named America&#39\;s #1 Beach it has become a favorite of the professional sand sculptors who have competed in the past three years. Citing the beauty and cleanliness of the pristine white sand\,&nbsp\; sculptors have remarked that their sculptures look almost as if they were &quot\;carved in marble.&quot\; The Siesta Key Crystal Classic connects the arts and the beach in ways never before seen in Sarasota.</span>
LOCATION:Siesta Key Beach
UID:e.2312.410
SEQUENCE:3
DTSTAMP:20260419T224246Z
URL:https://my.siestakeychamber.com/events/details/siesta-key-crystal-classic-11-11-2016-410
END:VEVENT

END:VCALENDAR
