BEGIN:VCALENDAR
VERSION:2.0
PRODID:-//ChamberMaster//Event Calendar 2.0//EN
METHOD:PUBLISH
X-PUBLISHED-TTL:P3D
REFRESH-INTERVAL:P3D
CALSCALE:GREGORIAN
BEGIN:VEVENT
DTSTART:20170601T230000Z
DTEND:20170602T035500Z
X-MICROSOFT-CDO-ALLDAYEVENT:FALSE
SUMMARY:SKCC Poker Tournament Fund Raiser for 4th of July
DESCRIPTION:Join the Siesta Key Chamber of Commerce for the 4th of July Fund Raiser at our annual Poker Tournament.
X-ALT-DESC;FMTTYPE=text/html:Join the Siesta Key Chamber of Commerce for the 4th of July Fund Raiser at our annual Poker Tournament.
LOCATION:Sarasota Kennel Club 5400 Bradenton Road Sarasota\, FL 34234
UID:e.2312.1147
SEQUENCE:3
DTSTAMP:20260419T121750Z
URL:https://my.siestakeychamber.com/events/details/skcc-poker-tournament-fund-raiser-for-4th-of-july-1147
END:VEVENT

END:VCALENDAR
