BEGIN:VCALENDAR
VERSION:2.0
PRODID:-//ChamberMaster//Event Calendar 2.0//EN
METHOD:PUBLISH
X-PUBLISHED-TTL:P3D
REFRESH-INTERVAL:P3D
CALSCALE:GREGORIAN
BEGIN:VEVENT
DTSTART:20170430T120000Z
DTEND:20170430T150000Z
X-MICROSOFT-CDO-ALLDAYEVENT:FALSE
SUMMARY:SKOB Fun Run
DESCRIPTION:Siesta Key Oyster Bar has organized a 5K fun run/walk taking place EVERY SUNDAY!  This is a family friendly 5K and everyone is welcome to join.\n\n\n\nSign in begins at 8:00 a.m. - Run starts at 8:30 a.m.\n\nSign up at SKOB before the race to receive your punch card and earn fun rewards!
X-ALT-DESC;FMTTYPE=text/html:<span style="font-size:14px\;">Siesta Key Oyster Bar has organized a 5K fun run/walk taking place EVERY SUNDAY! &nbsp\;This is a family friendly 5K and everyone is welcome to join.<br>\n<br>\n<strong>Sign in begins at 8:00 a.m. - Run starts at 8:30 a.m.</strong></span><br>\nSign up at SKOB before the race to receive your punch card and earn fun rewards!
LOCATION:Siesta Key Oyster Bar 5238 Ocean Blvd. Siesta Key\, FL 34242 (941) 346-5443
UID:e.2312.1119
SEQUENCE:3
DTSTAMP:20260419T145607Z
URL:https://my.siestakeychamber.com/events/details/skob-fun-run-04-30-2017-1119
END:VEVENT

END:VCALENDAR
