BEGIN:VCALENDAR
VERSION:2.0
PRODID:-//ChamberMaster//Event Calendar 2.0//EN
METHOD:PUBLISH
X-PUBLISHED-TTL:P3D
REFRESH-INTERVAL:P3D
CALSCALE:GREGORIAN
BEGIN:VEVENT
DTSTART:20160302T130000Z
DTEND:20160302T143000Z
X-MICROSOFT-CDO-ALLDAYEVENT:FALSE
SUMMARY:Sunrise Beach Walk
DESCRIPTION:Sunrise beach walks every Wednesday in February & March.
X-ALT-DESC;FMTTYPE=text/html:Sunrise beach walks every Wednesday in February &amp\; March.<br />\n<br />\n<br />\n<br />\n&nbsp\;
LOCATION:Main Pavilion
UID:e.2312.205
SEQUENCE:3
DTSTAMP:20260419T153515Z
URL:https://my.siestakeychamber.com/events/details/sunrise-beach-walk-03-02-2016-205
END:VEVENT

END:VCALENDAR
