BEGIN:VCALENDAR
VERSION:2.0
PRODID:-//ChamberMaster//Event Calendar 2.0//EN
METHOD:PUBLISH
X-PUBLISHED-TTL:P3D
REFRESH-INTERVAL:P3D
CALSCALE:GREGORIAN
BEGIN:VEVENT
DTSTART:20160214T220000Z
DTEND:20160215T010000Z
X-MICROSOFT-CDO-ALLDAYEVENT:FALSE
SUMMARY:The Siesta Key Village Valentine Stroll
DESCRIPTION:There will be something for everyone including live music throughout the Village and candy kisses which will be distributed by the merchants. Residents and visitors are invited to stroll through Siesta Village which will be adorned with Valentine cheer.\n\n\n\nSiesta Key Village offers romantic destinations for you and your sweetheart and lots of fun for the whole family. If parking is a concern\, there will be pedicab and golf cart cab services from the Siesta Public Beach parking lot to the Village.
X-ALT-DESC;FMTTYPE=text/html:There will be something for everyone including live music throughout the Village and candy kisses which will be distributed by the merchants.&nbsp\;<span style="color: rgb(0\, 0\, 0)\; font-family: Arial\, 'Arial Unicode MS'\, Helvetica\, sans-serif\; line-height: normal\;">Residents and visitors are invited to stroll through Siesta Village which will be adorned with Valentine cheer.</span><br />\n<br />\nSiesta Key Village offers romantic destinations for you and your sweetheart and lots of fun for the whole family. If parking is a concern\, there will be pedicab and golf cart cab services from the Siesta Public Beach parking lot to the Village.
LOCATION:Participating merchants will be displaying red and pink balloons outside of their businesses.
UID:e.2312.402
SEQUENCE:3
DTSTAMP:20260419T141115Z
URL:https://my.siestakeychamber.com/events/details/the-siesta-key-village-valentine-stroll-02-14-2016-402
END:VEVENT

END:VCALENDAR
