BEGIN:VCALENDAR
VERSION:2.0
PRODID:-//ChamberMaster//Event Calendar 2.0//EN
METHOD:PUBLISH
X-PUBLISHED-TTL:P3D
REFRESH-INTERVAL:P3D
CALSCALE:GREGORIAN
BEGIN:VEVENT
DTSTART:20170512T220000Z
DTEND:20170513T003000Z
X-MICROSOFT-CDO-ALLDAYEVENT:FALSE
SUMMARY:Tri-Chamber After 5 Event
DESCRIPTION:Come out and hob knob and mix-n-mingle with your fellow Chamber members from:\n\n    The Osprey Nokomis Chamber of Commerce\,\n\n    The Siesta Key Chamber of Commerce\n\n    The Venice Area Chamber of Commerce & the Venice Area Young     Professionals.\n\nCome out and enjoy music\, food and plenty of fun on the White Cottage Lawn of Historic Spanish Point.
X-ALT-DESC;FMTTYPE=text/html:Come out and hob knob and mix-n-mingle with your fellow Chamber members from:<br />\n&nbsp\;&nbsp\;&nbsp\;&nbsp\;The Osprey Nokomis Chamber of Commerce\,<br />\n&nbsp\; &nbsp\; The Siesta Key Chamber of Commerce<br />\n&nbsp\; &nbsp\; The Venice Area Chamber of Commerce &amp\; the Venice Area Young &nbsp\;&nbsp\;&nbsp\;&nbsp\;Professionals.<br />\nCome out and enjoy music\, food and plenty of fun on the White Cottage Lawn of Historic Spanish Point.<br />\n&nbsp\;&nbsp\;&nbsp\;&nbsp\;&nbsp\;&nbsp\;
LOCATION:Historic Spanish Point (White Cottage Lawn) 37 N Tamiami Trail Osprey\, FL 34229
UID:e.2312.1144
SEQUENCE:3
DTSTAMP:20260419T132721Z
URL:https://my.siestakeychamber.com/events/details/tri-chamber-after-5-event-1144
END:VEVENT

END:VCALENDAR
